BEGIN:VCALENDAR
VERSION:2.0
PRODID:-//Preferred Senior Advisors - ECPv6.15.20//NONSGML v1.0//EN
CALSCALE:GREGORIAN
METHOD:PUBLISH
X-WR-CALNAME:Preferred Senior Advisors
X-ORIGINAL-URL:https://preferredsenioradvisors.com
X-WR-CALDESC:Events for Preferred Senior Advisors
REFRESH-INTERVAL;VALUE=DURATION:PT1H
X-Robots-Tag:noindex
X-PUBLISHED-TTL:PT1H
BEGIN:VTIMEZONE
TZID:America/Chicago
BEGIN:DAYLIGHT
TZOFFSETFROM:-0600
TZOFFSETTO:-0500
TZNAME:CDT
DTSTART:20250309T080000
END:DAYLIGHT
BEGIN:STANDARD
TZOFFSETFROM:-0500
TZOFFSETTO:-0600
TZNAME:CST
DTSTART:20251102T070000
END:STANDARD
BEGIN:DAYLIGHT
TZOFFSETFROM:-0600
TZOFFSETTO:-0500
TZNAME:CDT
DTSTART:20260308T080000
END:DAYLIGHT
BEGIN:STANDARD
TZOFFSETFROM:-0500
TZOFFSETTO:-0600
TZNAME:CST
DTSTART:20261101T070000
END:STANDARD
BEGIN:DAYLIGHT
TZOFFSETFROM:-0600
TZOFFSETTO:-0500
TZNAME:CDT
DTSTART:20270314T080000
END:DAYLIGHT
BEGIN:STANDARD
TZOFFSETFROM:-0500
TZOFFSETTO:-0600
TZNAME:CST
DTSTART:20271107T070000
END:STANDARD
END:VTIMEZONE
BEGIN:VEVENT
DTSTART;TZID=America/Chicago:20260423T130000
DTEND;TZID=America/Chicago:20260423T134500
DTSTAMP:20260423T134233
CREATED:20260310T222359Z
LAST-MODIFIED:20260310T222359Z
UID:10764-1776949200-1776951900@preferredsenioradvisors.com
SUMMARY:Nationwide Product Overview
DESCRIPTION:Description:  \nJoin us for an overview of Nationwide’s group health products with Nationwide sales executive\, Cory Satlow. This training will help you gain valuable knowledge on Nationwide’s products\, employer benefits with Nationwide and client servicing. \nHost:  \nMaria Hernandez\, Employee Group Benefit Specialist & Aflac Product Specialist – Empower Brokerage \nGuest speaker:  \nCory Satlow\, Nationwide – sales executive – group health \n  \nREGISTER NOW
URL:https://preferredsenioradvisors.com/event/nationwide-product-overview/
ATTACH;FMTTYPE=image/png:https://preferredsenioradvisors.com/wp-content/uploads/2026/03/Nationwide-Product-Overview.png
END:VEVENT
END:VCALENDAR