BEGIN:VCALENDAR
VERSION:2.0
PRODID:-//Preferred Senior Advisors - ECPv6.15.20//NONSGML v1.0//EN
CALSCALE:GREGORIAN
METHOD:PUBLISH
X-ORIGINAL-URL:https://preferredsenioradvisors.com
X-WR-CALDESC:Events for Preferred Senior Advisors
REFRESH-INTERVAL;VALUE=DURATION:PT1H
X-Robots-Tag:noindex
X-PUBLISHED-TTL:PT1H
BEGIN:VTIMEZONE
TZID:America/Chicago
BEGIN:DAYLIGHT
TZOFFSETFROM:-0600
TZOFFSETTO:-0500
TZNAME:CDT
DTSTART:20230312T080000
END:DAYLIGHT
BEGIN:STANDARD
TZOFFSETFROM:-0500
TZOFFSETTO:-0600
TZNAME:CST
DTSTART:20231105T070000
END:STANDARD
BEGIN:DAYLIGHT
TZOFFSETFROM:-0600
TZOFFSETTO:-0500
TZNAME:CDT
DTSTART:20240310T080000
END:DAYLIGHT
BEGIN:STANDARD
TZOFFSETFROM:-0500
TZOFFSETTO:-0600
TZNAME:CST
DTSTART:20241103T070000
END:STANDARD
BEGIN:DAYLIGHT
TZOFFSETFROM:-0600
TZOFFSETTO:-0500
TZNAME:CDT
DTSTART:20250309T080000
END:DAYLIGHT
BEGIN:STANDARD
TZOFFSETFROM:-0500
TZOFFSETTO:-0600
TZNAME:CST
DTSTART:20251102T070000
END:STANDARD
END:VTIMEZONE
BEGIN:VEVENT
DTSTART;TZID=America/Chicago:20240509T103000
DTEND;TZID=America/Chicago:20240509T113000
DTSTAMP:20260419T120534
CREATED:20240426T210000Z
LAST-MODIFIED:20240426T210000Z
UID:4259-1715250600-1715254200@preferredsenioradvisors.com
SUMMARY:Mastering Social Media - Learning Google Ads
DESCRIPTION:Mastering Social Media – Learning Google Ads\nHost: Kayla Gonzalez\, Social Media Manager – Empower Brokerage \nJoin our Social Media Specialist\, Kayla Gonzalez\, for a monthly meeting where she will be touching on getting started on social media\, posting best practices\, account management tools\, and so much more! \nIn this training\, we will take a deep dive into the process of crafting Google Ads and their effectiveness for your business. \n  \nRegister HERE. \n*You only need to register ONCE for all sessions. You will receive a reminder email before the next session.
URL:https://preferredsenioradvisors.com/event/mastering-social-media-learning-google-ads/
CATEGORIES:Webinars
END:VEVENT
END:VCALENDAR