BEGIN:VCALENDAR
VERSION:2.0
PRODID:-//Preferred Senior Advisors - ECPv6.15.20//NONSGML v1.0//EN
CALSCALE:GREGORIAN
METHOD:PUBLISH
X-WR-CALNAME:Preferred Senior Advisors
X-ORIGINAL-URL:https://preferredsenioradvisors.com
X-WR-CALDESC:Events for Preferred Senior Advisors
REFRESH-INTERVAL;VALUE=DURATION:PT1H
X-Robots-Tag:noindex
X-PUBLISHED-TTL:PT1H
BEGIN:VTIMEZONE
TZID:America/Chicago
BEGIN:DAYLIGHT
TZOFFSETFROM:-0600
TZOFFSETTO:-0500
TZNAME:CDT
DTSTART:20200308T080000
END:DAYLIGHT
BEGIN:STANDARD
TZOFFSETFROM:-0500
TZOFFSETTO:-0600
TZNAME:CST
DTSTART:20201101T070000
END:STANDARD
BEGIN:DAYLIGHT
TZOFFSETFROM:-0600
TZOFFSETTO:-0500
TZNAME:CDT
DTSTART:20210314T080000
END:DAYLIGHT
BEGIN:STANDARD
TZOFFSETFROM:-0500
TZOFFSETTO:-0600
TZNAME:CST
DTSTART:20211107T070000
END:STANDARD
BEGIN:DAYLIGHT
TZOFFSETFROM:-0600
TZOFFSETTO:-0500
TZNAME:CDT
DTSTART:20220313T080000
END:DAYLIGHT
BEGIN:STANDARD
TZOFFSETFROM:-0500
TZOFFSETTO:-0600
TZNAME:CST
DTSTART:20221106T070000
END:STANDARD
END:VTIMEZONE
BEGIN:VEVENT
DTSTART;TZID=America/Chicago:20210811T100000
DTEND;TZID=America/Chicago:20210811T110000
DTSTAMP:20260419T211531
CREATED:20210727T151445Z
LAST-MODIFIED:20210727T152751Z
UID:1914-1628676000-1628679600@preferredsenioradvisors.com
SUMMARY:How to Sell Aetna/Accendo – FINAL EXPENSE
DESCRIPTION:Host \nJohn Shinn \nDetails \nJoin John Shinn and fellow agents to learn how to INCREASE YOUR INCOME! \n  \nREGISTER HERE
URL:https://preferredsenioradvisors.com/event/how-to-sell-aetna-accendo-final-expense/
CATEGORIES:Webinars
END:VEVENT
END:VCALENDAR