BEGIN:VCALENDAR
VERSION:2.0
PRODID:-//Preferred Senior Advisors - ECPv6.15.20//NONSGML v1.0//EN
CALSCALE:GREGORIAN
METHOD:PUBLISH
X-ORIGINAL-URL:https://preferredsenioradvisors.com
X-WR-CALDESC:Events for Preferred Senior Advisors
REFRESH-INTERVAL;VALUE=DURATION:PT1H
X-Robots-Tag:noindex
X-PUBLISHED-TTL:PT1H
BEGIN:VTIMEZONE
TZID:America/Chicago
BEGIN:DAYLIGHT
TZOFFSETFROM:-0600
TZOFFSETTO:-0500
TZNAME:CDT
DTSTART:20200308T080000
END:DAYLIGHT
BEGIN:STANDARD
TZOFFSETFROM:-0500
TZOFFSETTO:-0600
TZNAME:CST
DTSTART:20201101T070000
END:STANDARD
BEGIN:DAYLIGHT
TZOFFSETFROM:-0600
TZOFFSETTO:-0500
TZNAME:CDT
DTSTART:20210314T080000
END:DAYLIGHT
BEGIN:STANDARD
TZOFFSETFROM:-0500
TZOFFSETTO:-0600
TZNAME:CST
DTSTART:20211107T070000
END:STANDARD
BEGIN:DAYLIGHT
TZOFFSETFROM:-0600
TZOFFSETTO:-0500
TZNAME:CDT
DTSTART:20220313T080000
END:DAYLIGHT
BEGIN:STANDARD
TZOFFSETFROM:-0500
TZOFFSETTO:-0600
TZNAME:CST
DTSTART:20221106T070000
END:STANDARD
END:VTIMEZONE
BEGIN:VEVENT
DTSTART;TZID=America/Chicago:20210512T100000
DTEND;TZID=America/Chicago:20210512T150000
DTSTAMP:20260420T045649
CREATED:20210506T162007Z
LAST-MODIFIED:20210506T194437Z
UID:1728-1620813600-1620831600@preferredsenioradvisors.com
SUMMARY:Mutual of Omaha & Humana Training
DESCRIPTION:Mutual of Omaha & Humana Training \nHost \nJohn Shinn \nGuest Speakers \nJeremy Grantham\, MoO \nGabe Moore\, Humana \n  \nMeeting Details \nJoin Us for this Exciting Two-Part Training! \nMutual of Omaha Training – \nJoin Senior Product Specialist John Shinn and Mutual of Omaha Sales Director Jeremy Grantham for an in-depth two-hour training and Medicare Supplement product knowledge. They will be sharing tips and insights on the process of writing and submitting E-Applications and going through the underwriting process. Additionally\, they will cover long-term care\, final expense\, and prescription drugs. Take advantage of this opportunity to hear from Jeremy on product updates and ask questions. \nHumana Training – \nBroker Relationship Manager Gabe Moore will be discussing the ins and outs of Medicare Advantage\, prescription drug plans\, and writing E-Applications. Gabe will also be providing product overviews and updates as well as answering questions. Afterward\, you will hear from Regional Sales Director Ben Marquez on the Veterans benefits program. \nRegister Here
URL:https://preferredsenioradvisors.com/event/mutual-of-omaha-underwriting-training/
CATEGORIES:Webinars
END:VEVENT
END:VCALENDAR