BEGIN:VCALENDAR
VERSION:2.0
PRODID:-//Preferred Senior Advisors - ECPv6.15.20//NONSGML v1.0//EN
CALSCALE:GREGORIAN
METHOD:PUBLISH
X-WR-CALNAME:Preferred Senior Advisors
X-ORIGINAL-URL:https://preferredsenioradvisors.com
X-WR-CALDESC:Events for Preferred Senior Advisors
REFRESH-INTERVAL;VALUE=DURATION:PT1H
X-Robots-Tag:noindex
X-PUBLISHED-TTL:PT1H
BEGIN:VTIMEZONE
TZID:America/Chicago
BEGIN:DAYLIGHT
TZOFFSETFROM:-0600
TZOFFSETTO:-0500
TZNAME:CDT
DTSTART:20200308T080000
END:DAYLIGHT
BEGIN:STANDARD
TZOFFSETFROM:-0500
TZOFFSETTO:-0600
TZNAME:CST
DTSTART:20201101T070000
END:STANDARD
BEGIN:DAYLIGHT
TZOFFSETFROM:-0600
TZOFFSETTO:-0500
TZNAME:CDT
DTSTART:20210314T080000
END:DAYLIGHT
BEGIN:STANDARD
TZOFFSETFROM:-0500
TZOFFSETTO:-0600
TZNAME:CST
DTSTART:20211107T070000
END:STANDARD
BEGIN:DAYLIGHT
TZOFFSETFROM:-0600
TZOFFSETTO:-0500
TZNAME:CDT
DTSTART:20220313T080000
END:DAYLIGHT
BEGIN:STANDARD
TZOFFSETFROM:-0500
TZOFFSETTO:-0600
TZNAME:CST
DTSTART:20221106T070000
END:STANDARD
END:VTIMEZONE
BEGIN:VEVENT
DTSTART;TZID=America/Chicago:20210504T100000
DTEND;TZID=America/Chicago:20210504T110000
DTSTAMP:20260420T032936
CREATED:20210330T173949Z
LAST-MODIFIED:20210330T173949Z
UID:1607-1620122400-1620126000@preferredsenioradvisors.com
SUMMARY:Mutual of Omaha - Tax Advantages of Traditional Long Term Care Insurance
DESCRIPTION:Host \nTom Fridrich\, JD\, CLU\, ChFC\, Advanced Marketing Specialist \nAre you aware that for your prospects and clients there are certain tax advantages of having long term care insurance? Don’t delay\, register now to learn about this or get a refresher as we host Tom Fridrich. \nRegister Here
URL:https://preferredsenioradvisors.com/event/mutual-of-omaha-tax-advantages-of-traditional-long-term-care-insurance/
CATEGORIES:Webinars
END:VEVENT
BEGIN:VEVENT
DTSTART;TZID=America/Chicago:20210504T110000
DTEND;TZID=America/Chicago:20210504T120000
DTSTAMP:20260420T032936
CREATED:20210428T132948Z
LAST-MODIFIED:20210428T133413Z
UID:1695-1620126000-1620129600@preferredsenioradvisors.com
SUMMARY:Empower presents UHC DFW's Josie Etter
DESCRIPTION:Empower presents UHC – DFW Josie Etter – TOP DFW UHC Plans \nHost \nBen Marquez \nGuest Speaker \nJosie Etter\, United Healthcare DFW \n-The local UHC C SNP plan. \n-The local UHC Patriot plan with a Cash Giveback value to the member. \nJoin us and learn how you can sell MAPD’s all spring and summer long! \nRegister Here
URL:https://preferredsenioradvisors.com/event/empower-presents-uhc-dfws-josie-etter/
CATEGORIES:Webinars
END:VEVENT
END:VCALENDAR