BEGIN:VCALENDAR
VERSION:2.0
PRODID:-//Preferred Senior Advisors - ECPv6.15.20//NONSGML v1.0//EN
CALSCALE:GREGORIAN
METHOD:PUBLISH
X-WR-CALNAME:Preferred Senior Advisors
X-ORIGINAL-URL:https://preferredsenioradvisors.com
X-WR-CALDESC:Events for Preferred Senior Advisors
REFRESH-INTERVAL;VALUE=DURATION:PT1H
X-Robots-Tag:noindex
X-PUBLISHED-TTL:PT1H
BEGIN:VTIMEZONE
TZID:America/Chicago
BEGIN:DAYLIGHT
TZOFFSETFROM:-0600
TZOFFSETTO:-0500
TZNAME:CDT
DTSTART:20200308T080000
END:DAYLIGHT
BEGIN:STANDARD
TZOFFSETFROM:-0500
TZOFFSETTO:-0600
TZNAME:CST
DTSTART:20201101T070000
END:STANDARD
BEGIN:DAYLIGHT
TZOFFSETFROM:-0600
TZOFFSETTO:-0500
TZNAME:CDT
DTSTART:20210314T080000
END:DAYLIGHT
BEGIN:STANDARD
TZOFFSETFROM:-0500
TZOFFSETTO:-0600
TZNAME:CST
DTSTART:20211107T070000
END:STANDARD
BEGIN:DAYLIGHT
TZOFFSETFROM:-0600
TZOFFSETTO:-0500
TZNAME:CDT
DTSTART:20220313T080000
END:DAYLIGHT
BEGIN:STANDARD
TZOFFSETFROM:-0500
TZOFFSETTO:-0600
TZNAME:CST
DTSTART:20221106T070000
END:STANDARD
END:VTIMEZONE
BEGIN:VEVENT
DTSTART;TZID=America/Chicago:20210422T100000
DTEND;TZID=America/Chicago:20210422T110000
DTSTAMP:20260420T062951
CREATED:20210330T173434Z
LAST-MODIFIED:20210330T173434Z
UID:1601-1619085600-1619089200@preferredsenioradvisors.com
SUMMARY:National Life Group – Annuities
DESCRIPTION:Host \nMichael Beaulieu\, Key Account Representative \nHear from Michael Beaulieu\, Key Account Representative of NLG as he will present the new line up of National Life Group flow and single premium annuities.  In addition he will cover sales ideas to uncover business opportunities in the annuity market space. \nRegister Here
URL:https://preferredsenioradvisors.com/event/national-life-group-annuities/
CATEGORIES:Webinars
END:VEVENT
BEGIN:VEVENT
DTSTART;TZID=America/Chicago:20210422T130000
DTEND;TZID=America/Chicago:20210422T140000
DTSTAMP:20260420T062951
CREATED:20210330T173549Z
LAST-MODIFIED:20210330T173549Z
UID:1603-1619096400-1619100000@preferredsenioradvisors.com
SUMMARY:Royal Neighbors Steady Choice DIA
DESCRIPTION:Host\nDerek Baltimore\, Annuity Specialist – Empower Brokerage \nGuest Presenter from Royal Neighbors:\nMichelle Hilliker\, Regional VP \nMeeting Details: \nJoin us for our Annuity Mentorship weekly webinar with Royal Neighbors of America discussing their STEADY CHOICE II deferred income annuity (DIA) for longer term accumulation and supplemental retirement income. Special guest Michelle Hilliker\, RVP Royal Neighbors will be hosting. This is a  great lineup for clients that need to accumulate for the long term. Lower client PAC contributions are available. \nRegister Here
URL:https://preferredsenioradvisors.com/event/royal-neighbors-steady-choice-dia/
CATEGORIES:Webinars
END:VEVENT
END:VCALENDAR