BEGIN:VCALENDAR
VERSION:2.0
PRODID:-//Preferred Senior Advisors - ECPv6.15.20//NONSGML v1.0//EN
CALSCALE:GREGORIAN
METHOD:PUBLISH
X-WR-CALNAME:Preferred Senior Advisors
X-ORIGINAL-URL:https://preferredsenioradvisors.com
X-WR-CALDESC:Events for Preferred Senior Advisors
REFRESH-INTERVAL;VALUE=DURATION:PT1H
X-Robots-Tag:noindex
X-PUBLISHED-TTL:PT1H
BEGIN:VTIMEZONE
TZID:America/Chicago
BEGIN:DAYLIGHT
TZOFFSETFROM:-0600
TZOFFSETTO:-0500
TZNAME:CDT
DTSTART:20200308T080000
END:DAYLIGHT
BEGIN:STANDARD
TZOFFSETFROM:-0500
TZOFFSETTO:-0600
TZNAME:CST
DTSTART:20201101T070000
END:STANDARD
BEGIN:DAYLIGHT
TZOFFSETFROM:-0600
TZOFFSETTO:-0500
TZNAME:CDT
DTSTART:20210314T080000
END:DAYLIGHT
BEGIN:STANDARD
TZOFFSETFROM:-0500
TZOFFSETTO:-0600
TZNAME:CST
DTSTART:20211107T070000
END:STANDARD
BEGIN:DAYLIGHT
TZOFFSETFROM:-0600
TZOFFSETTO:-0500
TZNAME:CDT
DTSTART:20220313T080000
END:DAYLIGHT
BEGIN:STANDARD
TZOFFSETFROM:-0500
TZOFFSETTO:-0600
TZNAME:CST
DTSTART:20221106T070000
END:STANDARD
END:VTIMEZONE
BEGIN:VEVENT
DTSTART;TZID=America/Chicago:20210419T130000
DTEND;TZID=America/Chicago:20210419T140000
DTSTAMP:20260420T045304
CREATED:20210330T173019Z
LAST-MODIFIED:20210330T173019Z
UID:1597-1618837200-1618840800@preferredsenioradvisors.com
SUMMARY:Empower Brokerage Invites Enrique Torres\, Life Insurance Product Specialist
DESCRIPTION:Empower Brokerage Invites Enrique Torres\, Life Insurance Product Specialist \nHost \nBen Marquez \nGuest Speaker \nEnrique Torres \nMeet and Greet with Enrique Torres\, Empower Life Insurance Product expert.  Learn all about Final Expense\, the carriers to select\, the questions to ask\, how to market it and how to put “ink to paper.” \nRegister Here
URL:https://preferredsenioradvisors.com/event/empower-brokerage-invites-enrique-torres-life-insurance-product-specialist/
CATEGORIES:Webinars
END:VEVENT
END:VCALENDAR