BEGIN:VCALENDAR
VERSION:2.0
PRODID:-//Preferred Senior Advisors - ECPv6.15.20//NONSGML v1.0//EN
CALSCALE:GREGORIAN
METHOD:PUBLISH
X-ORIGINAL-URL:https://preferredsenioradvisors.com
X-WR-CALDESC:Events for Preferred Senior Advisors
REFRESH-INTERVAL;VALUE=DURATION:PT1H
X-Robots-Tag:noindex
X-PUBLISHED-TTL:PT1H
BEGIN:VTIMEZONE
TZID:America/Chicago
BEGIN:DAYLIGHT
TZOFFSETFROM:-0600
TZOFFSETTO:-0500
TZNAME:CDT
DTSTART:20200308T080000
END:DAYLIGHT
BEGIN:STANDARD
TZOFFSETFROM:-0500
TZOFFSETTO:-0600
TZNAME:CST
DTSTART:20201101T070000
END:STANDARD
BEGIN:DAYLIGHT
TZOFFSETFROM:-0600
TZOFFSETTO:-0500
TZNAME:CDT
DTSTART:20210314T080000
END:DAYLIGHT
BEGIN:STANDARD
TZOFFSETFROM:-0500
TZOFFSETTO:-0600
TZNAME:CST
DTSTART:20211107T070000
END:STANDARD
BEGIN:DAYLIGHT
TZOFFSETFROM:-0600
TZOFFSETTO:-0500
TZNAME:CDT
DTSTART:20220313T080000
END:DAYLIGHT
BEGIN:STANDARD
TZOFFSETFROM:-0500
TZOFFSETTO:-0600
TZNAME:CST
DTSTART:20221106T070000
END:STANDARD
END:VTIMEZONE
BEGIN:VEVENT
DTSTART;TZID=America/Chicago:20210413T100000
DTEND;TZID=America/Chicago:20210413T110000
DTSTAMP:20260420T063235
CREATED:20210330T172740Z
LAST-MODIFIED:20210330T172740Z
UID:1595-1618308000-1618311600@preferredsenioradvisors.com
SUMMARY:Mutual of Omaha - Underwriting Basics of Traditional LTC Insurance
DESCRIPTION:Host \nDemerri Bond\, RN\, BSN\, LTCi underwriter \nIncrease interest in traditional long term care insurance has led to agents getting more calls on this insurance solution.  Be proactive by registering now to hear and learn from Demerri Bond\, RN\, BSN\, a LTCi underwriter on the basics of field underwriting\, resources and case support. \nRegister Here
URL:https://preferredsenioradvisors.com/event/mutual-of-omaha-underwriting-basics-of-traditional-ltc-insurance/
CATEGORIES:Webinars
END:VEVENT
END:VCALENDAR